Workbook

Sheet Forecast
A1: Inventory forecasting and reorder template
A2: Enter weekly sales on the Sales history sheet, then the blue inputs here. Black columns calculate. The example row (EXAMPLE-001) uses made-up numbers; overwrite it.
A3: Legend: | B3: Input (blue on yellow) | C3: Formula (black) | D3: Linked from Sales history (green)
C4: Inputs per SKU | K4: Forecast and reorder math (formulas)
A5: SKU | B5: Product | C5: Lead time (weeks) | D5: On hand (units) | E5: On order (units) | F5: Service level | G5: Seasonality factor | H5: Review period (weeks) | I5: MOQ (units) | J5: Case pack (units) | K5: Avg weekly sales, last 8 wks | L5: Forecast weekly demand | M5: Std dev weekly sales, last 26 wks | N5: z (from service level) | O5: Safety stock (units) | P5: Reorder point (units) | Q5: Inventory position (on hand + on order) | R5: Weeks of cover, on hand | S5: Weeks of cover, incl. on order | T5: Order-up-to level (units) | U5: Reorder now? | V5: Suggested order qty (units)
A6: =IF('Sales history'!A6="","",'Sales history'!A6) | B6: =IF('Sales history'!B6="","",'Sales history'!B6) | C6: 6 | D6: 600 | E6: 300 | F6: 0.95 | G6: 1.1 | H6: 4 | I6: 500 | J6: 24 | K6: =IF(A6="","",IFERROR(AVERAGE('Sales history'!AU6:BB6),0)) | L6: =IF(A6="","",K6*IF(G6="",1,G6)) | M6: =IF(A6="","",IFERROR(STDEV('Sales history'!AC6:BB6),0)) | N6: =IF(A6="","",IFERROR(NORMSINV(F6),0)) | O6: =IF(A6="","",N6*M6*SQRT(C6)) | P6: =IF(A6="","",L6*C6+O6) | Q6: =IF(A6="","",D6+E6) | R6: =IF(A6="","",IFERROR(D6/L6,0)) | S6: =IF(A6="","",IFERROR(Q6/L6,0)) | T6: =IF(A6="","",L6*(C6+H6)+O6) | U6: =IF(A6="","",IF(Q6<=P6,"Reorder","OK")) | V6: =IF(A6="","",IF(Q6<=P6,CEILING(MAX(T6-Q6,IF(I6="",0,I6)),MAX(1,IF(J6="",1,J6))),0))
A7: =IF('Sales history'!A7="","",'Sales history'!A7) | B7: =IF('Sales history'!B7="","",'Sales history'!B7) | F7: 0.95 | G7: 1 | K7: =IF(A7="","",IFERROR(AVERAGE('Sales history'!AU7:BB7),0)) | L7: =IF(A7="","",K7*IF(G7="",1,G7)) | M7: =IF(A7="","",IFERROR(STDEV('Sales history'!AC7:BB7),0)) | N7: =IF(A7="","",IFERROR(NORMSINV(F7),0)) | O7: =IF(A7="","",N7*M7*SQRT(C7)) | P7: =IF(A7="","",L7*C7+O7) | Q7: =IF(A7="","",D7+E7) | R7: =IF(A7="","",IFERROR(D7/L7,0)) | S7: =IF(A7="","",IFERROR(Q7/L7,0)) | T7: =IF(A7="","",L7*(C7+H7)+O7) | U7: =IF(A7="","",IF(Q7<=P7,"Reorder","OK")) | V7: =IF(A7="","",IF(Q7<=P7,CEILING(MAX(T7-Q7,IF(I7="",0,I7)),MAX(1,IF(J7="",1,J7))),0))
A8: =IF('Sales history'!A8="","",'Sales history'!A8) | B8: =IF('Sales history'!B8="","",'Sales history'!B8) | F8: 0.95 | G8: 1 | K8: =IF(A8="","",IFERROR(AVERAGE('Sales history'!AU8:BB8),0)) | L8: =IF(A8="","",K8*IF(G8="",1,G8)) | M8: =IF(A8="","",IFERROR(STDEV('Sales history'!AC8:BB8),0)) | N8: =IF(A8="","",IFERROR(NORMSINV(F8),0)) | O8: =IF(A8="","",N8*M8*SQRT(C8)) | P8: =IF(A8="","",L8*C8+O8) | Q8: =IF(A8="","",D8+E8) | R8: =IF(A8="","",IFERROR(D8/L8,0)) | S8: =IF(A8="","",IFERROR(Q8/L8,0)) | T8: =IF(A8="","",L8*(C8+H8)+O8) | U8: =IF(A8="","",IF(Q8<=P8,"Reorder","OK")) | V8: =IF(A8="","",IF(Q8<=P8,CEILING(MAX(T8-Q8,IF(I8="",0,I8)),MAX(1,IF(J8="",1,J8))),0))
A9: =IF('Sales history'!A9="","",'Sales history'!A9) | B9: =IF('Sales history'!B9="","",'Sales history'!B9) | F9: 0.95 | G9: 1 | K9: =IF(A9="","",IFERROR(AVERAGE('Sales history'!AU9:BB9),0)) | L9: =IF(A9="","",K9*IF(G9="",1,G9)) | M9: =IF(A9="","",IFERROR(STDEV('Sales history'!AC9:BB9),0)) | N9: =IF(A9="","",IFERROR(NORMSINV(F9),0)) | O9: =IF(A9="","",N9*M9*SQRT(C9)) | P9: =IF(A9="","",L9*C9+O9) | Q9: =IF(A9="","",D9+E9) | R9: =IF(A9="","",IFERROR(D9/L9,0)) | S9: =IF(A9="","",IFERROR(Q9/L9,0)) | T9: =IF(A9="","",L9*(C9+H9)+O9) | U9: =IF(A9="","",IF(Q9<=P9,"Reorder","OK")) | V9: =IF(A9="","",IF(Q9<=P9,CEILING(MAX(T9-Q9,IF(I9="",0,I9)),MAX(1,IF(J9="",1,J9))),0))
A10: =IF('Sales history'!A10="","",'Sales history'!A10) | B10: =IF('Sales history'!B10="","",'Sales history'!B10) | F10: 0.95 | G10: 1 | K10: =IF(A10="","",IFERROR(AVERAGE('Sales history'!AU10:BB10),0)) | L10: =IF(A10="","",K10*IF(G10="",1,G10)) | M10: =IF(A10="","",IFERROR(STDEV('Sales history'!AC10:BB10),0)) | N10: =IF(A10="","",IFERROR(NORMSINV(F10),0)) | O10: =IF(A10="","",N10*M10*SQRT(C10)) | P10: =IF(A10="","",L10*C10+O10) | Q10: =IF(A10="","",D10+E10) | R10: =IF(A10="","",IFERROR(D10/L10,0)) | S10: =IF(A10="","",IFERROR(Q10/L10,0)) | T10: =IF(A10="","",L10*(C10+H10)+O10) | U10: =IF(A10="","",IF(Q10<=P10,"Reorder","OK")) | V10: =IF(A10="","",IF(Q10<=P10,CEILING(MAX(T10-Q10,IF(I10="",0,I10)),MAX(1,IF(J10="",1,J10))),0))
A11: =IF('Sales history'!A11="","",'Sales history'!A11) | B11: =IF('Sales history'!B11="","",'Sales history'!B11) | F11: 0.95 | G11: 1 | K11: =IF(A11="","",IFERROR(AVERAGE('Sales history'!AU11:BB11),0)) | L11: =IF(A11="","",K11*IF(G11="",1,G11)) | M11: =IF(A11="","",IFERROR(STDEV('Sales history'!AC11:BB11),0)) | N11: =IF(A11="","",IFERROR(NORMSINV(F11),0)) | O11: =IF(A11="","",N11*M11*SQRT(C11)) | P11: =IF(A11="","",L11*C11+O11) | Q11: =IF(A11="","",D11+E11) | R11: =IF(A11="","",IFERROR(D11/L11,0)) | S11: =IF(A11="","",IFERROR(Q11/L11,0)) | T11: =IF(A11="","",L11*(C11+H11)+O11) | U11: =IF(A11="","",IF(Q11<=P11,"Reorder","OK")) | V11: =IF(A11="","",IF(Q11<=P11,CEILING(MAX(T11-Q11,IF(I11="",0,I11)),MAX(1,IF(J11="",1,J11))),0))
A12: =IF('Sales history'!A12="","",'Sales history'!A12) | B12: =IF('Sales history'!B12="","",'Sales history'!B12) | F12: 0.95 | G12: 1 | K12: =IF(A12="","",IFERROR(AVERAGE('Sales history'!AU12:BB12),0)) | L12: =IF(A12="","",K12*IF(G12="",1,G12)) | M12: =IF(A12="","",IFERROR(STDEV('Sales history'!AC12:BB12),0)) | N12: =IF(A12="","",IFERROR(NORMSINV(F12),0)) | O12: =IF(A12="","",N12*M12*SQRT(C12)) | P12: =IF(A12="","",L12*C12+O12) | Q12: =IF(A12="","",D12+E12) | R12: =IF(A12="","",IFERROR(D12/L12,0)) | S12: =IF(A12="","",IFERROR(Q12/L12,0)) | T12: =IF(A12="","",L12*(C12+H12)+O12) | U12: =IF(A12="","",IF(Q12<=P12,"Reorder","OK")) | V12: =IF(A12="","",IF(Q12<=P12,CEILING(MAX(T12-Q12,IF(I12="",0,I12)),MAX(1,IF(J12="",1,J12))),0))
A13: =IF('Sales history'!A13="","",'Sales history'!A13) | B13: =IF('Sales history'!B13="","",'Sales history'!B13) | F13: 0.95 | G13: 1 | K13: =IF(A13="","",IFERROR(AVERAGE('Sales history'!AU13:BB13),0)) | L13: =IF(A13="","",K13*IF(G13="",1,G13)) | M13: =IF(A13="","",IFERROR(STDEV('Sales history'!AC13:BB13),0)) | N13: =IF(A13="","",IFERROR(NORMSINV(F13),0)) | O13: =IF(A13="","",N13*M13*SQRT(C13)) | P13: =IF(A13="","",L13*C13+O13) | Q13: =IF(A13="","",D13+E13) | R13: =IF(A13="","",IFERROR(D13/L13,0)) | S13: =IF(A13="","",IFERROR(Q13/L13,0)) | T13: =IF(A13="","",L13*(C13+H13)+O13) | U13: =IF(A13="","",IF(Q13<=P13,"Reorder","OK")) | V13: =IF(A13="","",IF(Q13<=P13,CEILING(MAX(T13-Q13,IF(I13="",0,I13)),MAX(1,IF(J13="",1,J13))),0))
A14: =IF('Sales history'!A14="","",'Sales history'!A14) | B14: =IF('Sales history'!B14="","",'Sales history'!B14) | F14: 0.95 | G14: 1 | K14: =IF(A14="","",IFERROR(AVERAGE('Sales history'!AU14:BB14),0)) | L14: =IF(A14="","",K14*IF(G14="",1,G14)) | M14: =IF(A14="","",IFERROR(STDEV('Sales history'!AC14:BB14),0)) | N14: =IF(A14="","",IFERROR(NORMSINV(F14),0)) | O14: =IF(A14="","",N14*M14*SQRT(C14)) | P14: =IF(A14="","",L14*C14+O14) | Q14: =IF(A14="","",D14+E14) | R14: =IF(A14="","",IFERROR(D14/L14,0)) | S14: =IF(A14="","",IFERROR(Q14/L14,0)) | T14: =IF(A14="","",L14*(C14+H14)+O14) | U14: =IF(A14="","",IF(Q14<=P14,"Reorder","OK")) | V14: =IF(A14="","",IF(Q14<=P14,CEILING(MAX(T14-Q14,IF(I14="",0,I14)),MAX(1,IF(J14="",1,J14))),0))
A15: =IF('Sales history'!A15="","",'Sales history'!A15) | B15: =IF('Sales history'!B15="","",'Sales history'!B15) | F15: 0.95 | G15: 1 | K15: =IF(A15="","",IFERROR(AVERAGE('Sales history'!AU15:BB15),0)) | L15: =IF(A15="","",K15*IF(G15="",1,G15)) | M15: =IF(A15="","",IFERROR(STDEV('Sales history'!AC15:BB15),0)) | N15: =IF(A15="","",IFERROR(NORMSINV(F15),0)) | O15: =IF(A15="","",N15*M15*SQRT(C15)) | P15: =IF(A15="","",L15*C15+O15) | Q15: =IF(A15="","",D15+E15) | R15: =IF(A15="","",IFERROR(D15/L15,0)) | S15: =IF(A15="","",IFERROR(Q15/L15,0)) | T15: =IF(A15="","",L15*(C15+H15)+O15) | U15: =IF(A15="","",IF(Q15<=P15,"Reorder","OK")) | V15: =IF(A15="","",IF(Q15<=P15,CEILING(MAX(T15-Q15,IF(I15="",0,I15)),MAX(1,IF(J15="",1,J15))),0))
A16: =IF('Sales history'!A16="","",'Sales history'!A16) | B16: =IF('Sales history'!B16="","",'Sales history'!B16) | F16: 0.95 | G16: 1 | K16: =IF(A16="","",IFERROR(AVERAGE('Sales history'!AU16:BB16),0)) | L16: =IF(A16="","",K16*IF(G16="",1,G16)) | M16: =IF(A16="","",IFERROR(STDEV('Sales history'!AC16:BB16),0)) | N16: =IF(A16="","",IFERROR(NORMSINV(F16),0)) | O16: =IF(A16="","",N16*M16*SQRT(C16)) | P16: =IF(A16="","",L16*C16+O16) | Q16: =IF(A16="","",D16+E16) | R16: =IF(A16="","",IFERROR(D16/L16,0)) | S16: =IF(A16="","",IFERROR(Q16/L16,0)) | T16: =IF(A16="","",L16*(C16+H16)+O16) | U16: =IF(A16="","",IF(Q16<=P16,"Reorder","OK")) | V16: =IF(A16="","",IF(Q16<=P16,CEILING(MAX(T16-Q16,IF(I16="",0,I16)),MAX(1,IF(J16="",1,J16))),0))
A17: =IF('Sales history'!A17="","",'Sales history'!A17) | B17: =IF('Sales history'!B17="","",'Sales history'!B17) | F17: 0.95 | G17: 1 | K17: =IF(A17="","",IFERROR(AVERAGE('Sales history'!AU17:BB17),0)) | L17: =IF(A17="","",K17*IF(G17="",1,G17)) | M17: =IF(A17="","",IFERROR(STDEV('Sales history'!AC17:BB17),0)) | N17: =IF(A17="","",IFERROR(NORMSINV(F17),0)) | O17: =IF(A17="","",N17*M17*SQRT(C17)) | P17: =IF(A17="","",L17*C17+O17) | Q17: =IF(A17="","",D17+E17) | R17: =IF(A17="","",IFERROR(D17/L17,0)) | S17: =IF(A17="","",IFERROR(Q17/L17,0)) | T17: =IF(A17="","",L17*(C17+H17)+O17) | U17: =IF(A17="","",IF(Q17<=P17,"Reorder","OK")) | V17: =IF(A17="","",IF(Q17<=P17,CEILING(MAX(T17-Q17,IF(I17="",0,I17)),MAX(1,IF(J17="",1,J17))),0))
A18: =IF('Sales history'!A18="","",'Sales history'!A18) | B18: =IF('Sales history'!B18="","",'Sales history'!B18) | F18: 0.95 | G18: 1 | K18: =IF(A18="","",IFERROR(AVERAGE('Sales history'!AU18:BB18),0)) | L18: =IF(A18="","",K18*IF(G18="",1,G18)) | M18: =IF(A18="","",IFERROR(STDEV('Sales history'!AC18:BB18),0)) | N18: =IF(A18="","",IFERROR(NORMSINV(F18),0)) | O18: =IF(A18="","",N18*M18*SQRT(C18)) | P18: =IF(A18="","",L18*C18+O18) | Q18: =IF(A18="","",D18+E18) | R18: =IF(A18="","",IFERROR(D18/L18,0)) | S18: =IF(A18="","",IFERROR(Q18/L18,0)) | T18: =IF(A18="","",L18*(C18+H18)+O18) | U18: =IF(A18="","",IF(Q18<=P18,"Reorder","OK")) | V18: =IF(A18="","",IF(Q18<=P18,CEILING(MAX(T18-Q18,IF(I18="",0,I18)),MAX(1,IF(J18="",1,J18))),0))
... A35: =IF('Sales history'!A35="","",'Sales history'!A35) | B35: =IF('Sales history'!B35="","",'Sales history'!B35) | F35: 0.95 | G35: 1 | K35: =IF(A35="","",IFERROR(AVERAGE('Sales history'!AU35:BB35),0)) | L35: =IF(A35="","",K35*IF(G35="",1,G35)) | M35: =IF(A35="","",IFERROR(STDEV('Sales history'!AC35:BB35),0)) | N35: =IF(A35="","",IFERROR(NORMSINV(F35),0)) | O35: =IF(A35="","",N35*M35*SQRT(C35)) | P35: =IF(A35="","",L35*C35+O35) | Q35: =IF(A35="","",D35+E35) | R35: =IF(A35="","",IFERROR(D35/L35,0)) | S35: =IF(A35="","",IFERROR(Q35/L35,0)) | T35: =IF(A35="","",L35*(C35+H35)+O35) | U35: =IF(A35="","",IF(Q35<=P35,"Reorder","OK")) | V35: =IF(A35="","",IF(Q35<=P35,CEILING(MAX(T35-Q35,IF(I35="",0,I35)),MAX(1,IF(J35="",1,J35))),0))
A36: Total | D36: =SUM(D6:D35) | E36: =SUM(E6:E35) | O36: =SUM(O6:O35) | Q36: =SUM(Q6:Q35) | U36: =COUNTIF(U6:U35,"Reorder")&" to reorder" | V36: =SUM(V6:V35)

Sheet Sales history
A1: Weekly unit sales by SKU
A2: One row per SKU. Week 1 is the oldest week, week 52 the most recent full week. Use units sold (net of cancellations), not revenue. The example row uses made-up numbers.
A3: Blue text on yellow = your inputs. Black = formulas. Green = pulled from another sheet.
A5: SKU | B5: Product | C5: Wk 1 | D5: Wk 2 | E5: Wk 3 | F5: Wk 4 | G5: Wk 5 | H5: Wk 6 | I5: Wk 7 | J5: Wk 8 | K5: Wk 9 | L5: Wk 10 | M5: Wk 11 | N5: Wk 12 | O5: Wk 13 | P5: Wk 14 | Q5: Wk 15 | R5: Wk 16 | S5: Wk 17 | T5: Wk 18 | U5: Wk 19 | V5: Wk 20 | W5: Wk 21 | X5: Wk 22 | Y5: Wk 23 | Z5: Wk 24 | AA5: Wk 25 | AB5: Wk 26 | AC5: Wk 27 | AD5: Wk 28 | AE5: Wk 29 | AF5: Wk 30 | AG5: Wk 31 | AH5: Wk 32 | AI5: Wk 33 | AJ5: Wk 34 | AK5: Wk 35 | AL5: Wk 36 | AM5: Wk 37 | AN5: Wk 38 | AO5: Wk 39 | AP5: Wk 40 | AQ5: Wk 41 | AR5: Wk 42 | AS5: Wk 43 | AT5: Wk 44 | AU5: Wk 45 | AV5: Wk 46 | AW5: Wk 47 | AX5: Wk 48 | AY5: Wk 49 | AZ5: Wk 50 | BA5: Wk 51 | BB5: Wk 52
A6: EXAMPLE-001 | B6: Example SKU (illustrative numbers) | C6: 96 | D6: 102 | E6: 99 | F6: 105 | G6: 110 | H6: 104 | I6: 98 | J6: 101 | K6: 107 | L6: 112 | M6: 109 | N6: 115 | O6: 118 | P6: 114 | Q6: 120 | R6: 117 | S6: 111 | T6: 108 | U6: 113 | V6: 119 | W6: 122 | X6: 116 | Y6: 121 | Z6: 125 | AA6: 118 | AB6: 124 | AC6: 127 | AD6: 131 | AE6: 126 | AF6: 122 | AG6: 129 | AH6: 133 | AI6: 128 | AJ6: 135 | AK6: 138 | AL6: 132 | AM6: 130 | AN6: 136 | AO6: 141 | AP6: 137 | AQ6: 134 | AR6: 142 | AS6: 139 | AT6: 145 | AU6: 148 | AV6: 141 | AW6: 137 | AX6: 150 | AY6: 146 | AZ6: 143 | BA6: 152 | BB6: 149

Sheet How to use
A1: How to use this template
A3: 1. On Sales history, put one SKU per row: the SKU, a product name, and units sold in each of the last 52 weeks (week 52 = most recent full week). Overwrite the example row.
A4: 2. On Forecast, fill in the blue inputs for each SKU: lead time in weeks, units on hand, units on open purchase orders, service level, seasonality factor, review period, MOQ, and case pack.
A5: 3. Read across. The sheet averages the last 8 weeks, multiplies by your seasonality factor, and sets safety stock from how much weekly sales swung over the last 26 weeks.
A6: 4. 'Reorder now?' turns to Reorder when on hand plus on order is at or below the reorder point. The suggested quantity brings you back up to cover lead time plus one review period plus safety stock, at least the MOQ, rounded up to the case pack.
A7: 5. Sanity-check every suggested order before you send it. A stockout or a promotion in the history drags the average and the standard deviation; fix or exclude those weeks.
A9: The formulas:
A10: Forecast weekly demand = average of last 8 weeks x seasonality factor
A11: Safety stock = z x standard deviation of weekly sales (last 26 weeks) x square root of lead time in weeks. z = NORMSINV(service level), e.g. 1.645 at 95%.
A12: Reorder point = forecast weekly demand x lead time + safety stock
A13: Order-up-to level = forecast weekly demand x (lead time + review period) + safety stock
A14: Weeks of cover = units / forecast weekly demand
... A20: Turning the suggested orders into purchase orders: revenueelite.com/purchase-order-automation/
